Workbook
Name GroupList: Groups!$B$2:$B$10000
Name UserList: Users!$B$2:$B$100000

Sheet Users
A1: ID | B1: Name | C1: Type
A2: 1111 | B2: Test User Name 1 | C2: Full User
A3: 1112 | B3: Test User Name 2 | C3: Full User

Sheet Groups
A1: ID | B1: Hierarchy
A2: 2222 | B2: Test Group 1
A3: 3333 | B3: Test Group 2

Sheet Metrics
A1: ID | B1: Name
A2: 4444 | B2: Test Metric Name 1
A3: 5555 | B3: Test Metric Name 2

Sheet Currency
A1: Code | B1: Name
A2: GBP | B2: Great Britain Pound
A3: EUR | B3: Euro
A4: JPY | B4: Japanese Yen
A5: USD | B5: US Dollar
A6: HKD | B6: Hong Kong Dollar
A7: SGD | B7: Singapore Dollar
A8: AUD | B8: Australian Dollar
A9: BRL | B9: Brazilian Real
A10: ZAR | B10: South African Rand
A11: CNY | B11: China Yuan Renminbi
A12: INR | B12: Indian Rupee
... A172: MRU | B172: Mauritanian Ouguiya

Sheet Input
A1: Metric Name | B1: Make This Target a Priority (Y/Blank) | C1: Target Period (Weekly/Monthly) | D1: Start Date (YYYY-MM-DD) | E1: End Date (YYYY-MM-DD) | F1: Target Currency Code (Blank If Not Currency) | G1: Target Value | H1: User Name | I1: Group Name
A2: Test Metric Name 1 | B2: Y | C2: Weekly | D2: 45292 | E2: 45657 | G2: 25 | H2: Test User Name 1 | I2: Test Group 1 | J2: =IF(AND(H2<>"", I2<>""), "ERROR - Both User Name & Group Name entered.", "") -> ERROR - Both User Name & Group Name entered.
A3: Test Metric Name 1 | C3: Weekly | D3: 45292 | E3: 45657 | G3: 25 | I3: Test Group 1 | J3: =IF(AND(H3<>"", I3<>""), "ERROR - Both User Name & Group Name entered.", "")
A4: Test Metric Name 2 | B4: Y | C4: Monthly | D4: 45292 | G4: 10 | H4: Test User Name 2 | J4: =IF(AND(H4<>"", I4<>""), "ERROR - Both User Name & Group Name entered.", "")
A5: Test Metric Name 2 | C5: Monthly | D5: 45292 | G5: 15 | I5: Test Group 1 | J5: =IF(AND(H5<>"", I5<>""), "ERROR - Both User Name & Group Name entered.", "")
A6: Test Metric Name 2 | B6: Y | C6: Monthly | D6: 45292 | G6: 24 | H6: Test User Name 2 | I6: Test Group 2 | J6: =IF(AND(H6<>"", I6<>""), "ERROR - Both User Name & Group Name entered.", "") -> ERROR - Both User Name & Group Name entered.
J7: =IF(AND(H7<>"", I7<>""), "ERROR - Both User Name & Group Name entered.", "")
J8: =IF(AND(H8<>"", I8<>""), "ERROR - Both User Name & Group Name entered.", "")
J9: =IF(AND(H9<>"", I9<>""), "ERROR - Both User Name & Group Name entered.", "")
J10: =IF(AND(H10<>"", I10<>""), "ERROR - Both User Name & Group Name entered.", "")
J11: =IF(AND(H11<>"", I11<>""), "ERROR - Both User Name & Group Name entered.", "")
J12: =IF(AND(H12<>"", I12<>""), "ERROR - Both User Name & Group Name entered.", "")
J13: =IF(AND(H13<>"", I13<>""), "ERROR - Both User Name & Group Name entered.", "")
J14: =IF(AND(H14<>"", I14<>""), "ERROR - Both User Name & Group Name entered.", "")
J15: =IF(AND(H15<>"", I15<>""), "ERROR - Both User Name & Group Name entered.", "")
J16: =IF(AND(H16<>"", I16<>""), "ERROR - Both User Name & Group Name entered.", "")
J17: =IF(AND(H17<>"", I17<>""), "ERROR - Both User Name & Group Name entered.", "")
J18: =IF(AND(H18<>"", I18<>""), "ERROR - Both User Name & Group Name entered.", "")
... J2000: =IF(AND(H2000<>"", I2000<>""), "ERROR - Both User Name & Group Name entered.", "")

Sheet Export
A1: Target ID (Blank If New) | B1: Delete This Target (Y/Blank) | C1: Metric ID | D1: Make This Target a Priority (Y/Blank) | E1: Target Period (Weekly/Monthly) | F1: Start Date (YYYY-MM-DD) | G1: End Date (YYYY-MM-DD) | H1: Target Currency Code (Blank If Not Currency) | I1: Target Value | J1: User ID | K1: Group ID
C2: =_xlfn.IFNA(INDEX(Metrics!A:A, MATCH(Input!A2, Metrics!B:B, 0)),"") -> 4444 | D2: =IF(Input!B2=0,"",Input!B2) -> Y | E2: =IF(Input!C2=0,"",Input!C2) -> Weekly | F2: =IF(Input!D2=0,"",Input!D2) -> 45292 | G2: =IF(Input!E2=0,"",Input!E2) -> 45657 | H2: =IF(Input!F2=0,"",Input!F2) | I2: =Input!G2 -> 25 | J2: =_xlfn.IFNA(INDEX(Users!A:A, MATCH(Input!H2, Users!B:B, 0)),"") -> 1111 | K2: =_xlfn.IFNA(INDEX(Groups!A:A, MATCH(Input!I2, Groups!B:B, 0)),"") -> 2222
C3: =_xlfn.IFNA(INDEX(Metrics!A:A, MATCH(Input!A3, Metrics!B:B, 0)),"") -> 4444 | D3: =IF(Input!B3=0,"",Input!B3) | E3: =IF(Input!C3=0,"",Input!C3) -> Weekly | F3: =IF(Input!D3=0,"",Input!D3) -> 45292 | G3: =IF(Input!E3=0,"",Input!E3) -> 45657 | H3: =IF(Input!F3=0,"",Input!F3) | I3: =Input!G3 -> 25 | J3: =_xlfn.IFNA(INDEX(Users!A:A, MATCH(Input!H3, Users!B:B, 0)),"") | K3: =_xlfn.IFNA(INDEX(Groups!A:A, MATCH(Input!I3, Groups!B:B, 0)),"") -> 2222
C4: =_xlfn.IFNA(INDEX(Metrics!A:A, MATCH(Input!A4, Metrics!B:B, 0)),"") -> 5555 | D4: =IF(Input!B4=0,"",Input!B4) -> Y | E4: =IF(Input!C4=0,"",Input!C4) -> Monthly | F4: =IF(Input!D4=0,"",Input!D4) -> 45292 | G4: =IF(Input!E4=0,"",Input!E4) | H4: =IF(Input!F4=0,"",Input!F4) | I4: =Input!G4 -> 10 | J4: =_xlfn.IFNA(INDEX(Users!A:A, MATCH(Input!H4, Users!B:B, 0)),"") -> 1112 | K4: =_xlfn.IFNA(INDEX(Groups!A:A, MATCH(Input!I4, Groups!B:B, 0)),"")
C5: =_xlfn.IFNA(INDEX(Metrics!A:A, MATCH(Input!A5, Metrics!B:B, 0)),"") -> 5555 | D5: =IF(Input!B5=0,"",Input!B5) | E5: =IF(Input!C5=0,"",Input!C5) -> Monthly | F5: =IF(Input!D5=0,"",Input!D5) -> 45292 | G5: =IF(Input!E5=0,"",Input!E5) | H5: =IF(Input!F5=0,"",Input!F5) | I5: =Input!G5 -> 15 | J5: =_xlfn.IFNA(INDEX(Users!A:A, MATCH(Input!H5, Users!B:B, 0)),"") | K5: =_xlfn.IFNA(INDEX(Groups!A:A, MATCH(Input!I5, Groups!B:B, 0)),"") -> 2222
C6: =_xlfn.IFNA(INDEX(Metrics!A:A, MATCH(Input!A6, Metrics!B:B, 0)),"") -> 5555 | D6: =IF(Input!B6=0,"",Input!B6) -> Y | E6: =IF(Input!C6=0,"",Input!C6) -> Monthly | F6: =IF(Input!D6=0,"",Input!D6) -> 45292 | G6: =IF(Input!E6=0,"",Input!E6) | H6: =IF(Input!F6=0,"",Input!F6) | I6: =Input!G6 -> 24 | J6: =_xlfn.IFNA(INDEX(Users!A:A, MATCH(Input!H6, Users!B:B, 0)),"") -> 1112 | K6: =_xlfn.IFNA(INDEX(Groups!A:A, MATCH(Input!I6, Groups!B:B, 0)),"") -> 3333
C7: =_xlfn.IFNA(INDEX(Metrics!A:A, MATCH(Input!A7, Metrics!B:B, 0)),"") | D7: =IF(Input!B7=0,"",Input!B7) | E7: =IF(Input!C7=0,"",Input!C7) | F7: =IF(Input!D7=0,"",Input!D7) | G7: =IF(Input!E7=0,"",Input!E7) | H7: =IF(Input!F7=0,"",Input!F7) | I7: =Input!G7 -> 0 | J7: =_xlfn.IFNA(INDEX(Users!A:A, MATCH(Input!H7, Users!B:B, 0)),"") | K7: =_xlfn.IFNA(INDEX(Groups!A:A, MATCH(Input!I7, Groups!B:B, 0)),"")
C8: =_xlfn.IFNA(INDEX(Metrics!A:A, MATCH(Input!A8, Metrics!B:B, 0)),"") | D8: =IF(Input!B8=0,"",Input!B8) | E8: =IF(Input!C8=0,"",Input!C8) | F8: =IF(Input!D8=0,"",Input!D8) | G8: =IF(Input!E8=0,"",Input!E8) | H8: =IF(Input!F8=0,"",Input!F8) | I8: =Input!G8 -> 0 | J8: =_xlfn.IFNA(INDEX(Users!A:A, MATCH(Input!H8, Users!B:B, 0)),"") | K8: =_xlfn.IFNA(INDEX(Groups!A:A, MATCH(Input!I8, Groups!B:B, 0)),"")
C9: =_xlfn.IFNA(INDEX(Metrics!A:A, MATCH(Input!A9, Metrics!B:B, 0)),"") | D9: =IF(Input!B9=0,"",Input!B9) | E9: =IF(Input!C9=0,"",Input!C9) | F9: =IF(Input!D9=0,"",Input!D9) | G9: =IF(Input!E9=0,"",Input!E9) | H9: =IF(Input!F9=0,"",Input!F9) | I9: =Input!G9 -> 0 | J9: =_xlfn.IFNA(INDEX(Users!A:A, MATCH(Input!H9, Users!B:B, 0)),"") | K9: =_xlfn.IFNA(INDEX(Groups!A:A, MATCH(Input!I9, Groups!B:B, 0)),"")
C10: =_xlfn.IFNA(INDEX(Metrics!A:A, MATCH(Input!A10, Metrics!B:B, 0)),"") | D10: =IF(Input!B10=0,"",Input!B10) | E10: =IF(Input!C10=0,"",Input!C10) | F10: =IF(Input!D10=0,"",Input!D10) | G10: =IF(Input!E10=0,"",Input!E10) | H10: =IF(Input!F10=0,"",Input!F10) | I10: =Input!G10 -> 0 | J10: =_xlfn.IFNA(INDEX(Users!A:A, MATCH(Input!H10, Users!B:B, 0)),"") | K10: =_xlfn.IFNA(INDEX(Groups!A:A, MATCH(Input!I10, Groups!B:B, 0)),"")
C11: =_xlfn.IFNA(INDEX(Metrics!A:A, MATCH(Input!A11, Metrics!B:B, 0)),"") | D11: =IF(Input!B11=0,"",Input!B11) | E11: =IF(Input!C11=0,"",Input!C11) | F11: =IF(Input!D11=0,"",Input!D11) | G11: =IF(Input!E11=0,"",Input!E11) | H11: =IF(Input!F11=0,"",Input!F11) | I11: =Input!G11 -> 0 | J11: =_xlfn.IFNA(INDEX(Users!A:A, MATCH(Input!H11, Users!B:B, 0)),"") | K11: =_xlfn.IFNA(INDEX(Groups!A:A, MATCH(Input!I11, Groups!B:B, 0)),"")
C12: =_xlfn.IFNA(INDEX(Metrics!A:A, MATCH(Input!A12, Metrics!B:B, 0)),"") | D12: =IF(Input!B12=0,"",Input!B12) | E12: =IF(Input!C12=0,"",Input!C12) | F12: =IF(Input!D12=0,"",Input!D12) | G12: =IF(Input!E12=0,"",Input!E12) | H12: =IF(Input!F12=0,"",Input!F12) | I12: =Input!G12 -> 0 | J12: =_xlfn.IFNA(INDEX(Users!A:A, MATCH(Input!H12, Users!B:B, 0)),"") | K12: =_xlfn.IFNA(INDEX(Groups!A:A, MATCH(Input!I12, Groups!B:B, 0)),"")
C13: =_xlfn.IFNA(INDEX(Metrics!A:A, MATCH(Input!A13, Metrics!B:B, 0)),"") | D13: =IF(Input!B13=0,"",Input!B13) | E13: =IF(Input!C13=0,"",Input!C13) | F13: =IF(Input!D13=0,"",Input!D13) | G13: =IF(Input!E13=0,"",Input!E13) | H13: =IF(Input!F13=0,"",Input!F13) | I13: =Input!G13 -> 0 | J13: =_xlfn.IFNA(INDEX(Users!A:A, MATCH(Input!H13, Users!B:B, 0)),"") | K13: =_xlfn.IFNA(INDEX(Groups!A:A, MATCH(Input!I13, Groups!B:B, 0)),"")
... C300: =_xlfn.IFNA(INDEX(Metrics!A:A, MATCH(Input!A300, Metrics!B:B, 0)),"") | D300: =IF(Input!B300=0,"",Input!B300) | E300: =IF(Input!C300=0,"",Input!C300) | F300: =IF(Input!D300=0,"",Input!D300) | G300: =IF(Input!E300=0,"",Input!E300) | H300: =IF(Input!F300=0,"",Input!F300) | I300: =Input!G300 -> 0 | J300: =_xlfn.IFNA(INDEX(Users!A:A, MATCH(Input!H300, Users!B:B, 0)),"") | K300: =_xlfn.IFNA(INDEX(Groups!A:A, MATCH(Input!I300, Groups!B:B, 0)),"")
E301: =IF(Input!C301=0,"",Input!C301) | F301: =IF(Input!D301=0,"",Input!D301) | G301: =IF(Input!E301=0,"",Input!E301) | H301: =IF(Input!F301=0,"",Input!F301) | I301: =Input!G301 -> 0 | J301: =_xlfn.IFNA(INDEX(Users!A:A, MATCH(Input!H301, Users!B:B, 0)),"") | K301: =_xlfn.IFNA(INDEX(Groups!A:A, MATCH(Input!I301, Groups!B:B, 0)),"")
E302: =IF(Input!C302=0,"",Input!C302) | F302: =IF(Input!D302=0,"",Input!D302) | G302: =IF(Input!E302=0,"",Input!E302) | H302: =IF(Input!F302=0,"",Input!F302) | I302: =Input!G302 -> 0 | J302: =_xlfn.IFNA(INDEX(Users!A:A, MATCH(Input!H302, Users!B:B, 0)),"") | K302: =_xlfn.IFNA(INDEX(Groups!A:A, MATCH(Input!I302, Groups!B:B, 0)),"")
E303: =IF(Input!C303=0,"",Input!C303) | F303: =IF(Input!D303=0,"",Input!D303) | G303: =IF(Input!E303=0,"",Input!E303) | H303: =IF(Input!F303=0,"",Input!F303) | I303: =Input!G303 -> 0 | J303: =_xlfn.IFNA(INDEX(Users!A:A, MATCH(Input!H303, Users!B:B, 0)),"") | K303: =_xlfn.IFNA(INDEX(Groups!A:A, MATCH(Input!I303, Groups!B:B, 0)),"")
E304: =IF(Input!C304=0,"",Input!C304) | F304: =IF(Input!D304=0,"",Input!D304) | G304: =IF(Input!E304=0,"",Input!E304) | H304: =IF(Input!F304=0,"",Input!F304) | I304: =Input!G304 -> 0 | J304: =_xlfn.IFNA(INDEX(Users!A:A, MATCH(Input!H304, Users!B:B, 0)),"") | K304: =_xlfn.IFNA(INDEX(Groups!A:A, MATCH(Input!I304, Groups!B:B, 0)),"")
E305: =IF(Input!C305=0,"",Input!C305) | F305: =IF(Input!D305=0,"",Input!D305) | G305: =IF(Input!E305=0,"",Input!E305) | H305: =IF(Input!F305=0,"",Input!F305) | I305: =Input!G305 -> 0 | J305: =_xlfn.IFNA(INDEX(Users!A:A, MATCH(Input!H305, Users!B:B, 0)),"") | K305: =_xlfn.IFNA(INDEX(Groups!A:A, MATCH(Input!I305, Groups!B:B, 0)),"")
E306: =IF(Input!C306=0,"",Input!C306) | F306: =IF(Input!D306=0,"",Input!D306) | G306: =IF(Input!E306=0,"",Input!E306) | H306: =IF(Input!F306=0,"",Input!F306) | I306: =Input!G306 -> 0 | J306: =_xlfn.IFNA(INDEX(Users!A:A, MATCH(Input!H306, Users!B:B, 0)),"") | K306: =_xlfn.IFNA(INDEX(Groups!A:A, MATCH(Input!I306, Groups!B:B, 0)),"")
E307: =IF(Input!C307=0,"",Input!C307) | F307: =IF(Input!D307=0,"",Input!D307) | G307: =IF(Input!E307=0,"",Input!E307) | H307: =IF(Input!F307=0,"",Input!F307) | I307: =Input!G307 -> 0 | J307: =_xlfn.IFNA(INDEX(Users!A:A, MATCH(Input!H307, Users!B:B, 0)),"") | K307: =_xlfn.IFNA(INDEX(Groups!A:A, MATCH(Input!I307, Groups!B:B, 0)),"")
E308: =IF(Input!C308=0,"",Input!C308) | F308: =IF(Input!D308=0,"",Input!D308) | G308: =IF(Input!E308=0,"",Input!E308) | H308: =IF(Input!F308=0,"",Input!F308) | I308: =Input!G308 -> 0 | J308: =_xlfn.IFNA(INDEX(Users!A:A, MATCH(Input!H308, Users!B:B, 0)),"") | K308: =_xlfn.IFNA(INDEX(Groups!A:A, MATCH(Input!I308, Groups!B:B, 0)),"")
E309: =IF(Input!C309=0,"",Input!C309) | F309: =IF(Input!D309=0,"",Input!D309) | G309: =IF(Input!E309=0,"",Input!E309) | H309: =IF(Input!F309=0,"",Input!F309) | I309: =Input!G309 -> 0 | J309: =_xlfn.IFNA(INDEX(Users!A:A, MATCH(Input!H309, Users!B:B, 0)),"") | K309: =_xlfn.IFNA(INDEX(Groups!A:A, MATCH(Input!I309, Groups!B:B, 0)),"")
E310: =IF(Input!C310=0,"",Input!C310) | F310: =IF(Input!D310=0,"",Input!D310) | G310: =IF(Input!E310=0,"",Input!E310) | H310: =IF(Input!F310=0,"",Input!F310) | I310: =Input!G310 -> 0 | J310: =_xlfn.IFNA(INDEX(Users!A:A, MATCH(Input!H310, Users!B:B, 0)),"") | K310: =_xlfn.IFNA(INDEX(Groups!A:A, MATCH(Input!I310, Groups!B:B, 0)),"")
E311: =IF(Input!C311=0,"",Input!C311) | F311: =IF(Input!D311=0,"",Input!D311) | G311: =IF(Input!E311=0,"",Input!E311) | H311: =IF(Input!F311=0,"",Input!F311) | I311: =Input!G311 -> 0 | J311: =_xlfn.IFNA(INDEX(Users!A:A, MATCH(Input!H311, Users!B:B, 0)),"") | K311: =_xlfn.IFNA(INDEX(Groups!A:A, MATCH(Input!I311, Groups!B:B, 0)),"")
E312: =IF(Input!C312=0,"",Input!C312) | F312: =IF(Input!D312=0,"",Input!D312) | G312: =IF(Input!E312=0,"",Input!E312) | H312: =IF(Input!F312=0,"",Input!F312) | I312: =Input!G312 -> 0 | J312: =_xlfn.IFNA(INDEX(Users!A:A, MATCH(Input!H312, Users!B:B, 0)),"") | K312: =_xlfn.IFNA(INDEX(Groups!A:A, MATCH(Input!I312, Groups!B:B, 0)),"")
... E1000: =IF(Input!C1000=0,"",Input!C1000) | F1000: =IF(Input!D1000=0,"",Input!D1000) | G1000: =IF(Input!E1000=0,"",Input!E1000) | H1000: =IF(Input!F1000=0,"",Input!F1000) | I1000: =Input!G1000 -> 0 | J1000: =_xlfn.IFNA(INDEX(Users!A:A, MATCH(Input!H1000, Users!B:B, 0)),"") | K1000: =_xlfn.IFNA(INDEX(Groups!A:A, MATCH(Input!I1000, Groups!B:B, 0)),"")
